BEGIN:VCALENDAR
VERSION:2.0
PRODID:TypiCMS
X-PUBLISHED-TTL:P1W
BEGIN:VEVENT
UID:69e9d5c0552a4
DTSTART;TZID=Europe/Brussels:20180126T001000
SEQUENCE:0
TRANSP:OPAQUE
DTEND;TZID=Europe/Brussels:20180126T001630
URL:https://voiceeu.org/activities/gb-task-force-meeting
LOCATION:Rue Royale 71 – Brussels – 
SUMMARY:GB Task Force meeting
CLASS:PUBLIC
DTSTAMP:20260423T101808Z
END:VEVENT
END:VCALENDAR