BEGIN:VCALENDAR
VERSION:2.0
PRODID:TypiCMS
X-PUBLISHED-TTL:P1W
BEGIN:VEVENT
UID:69e70d83057cd
DTSTART;TZID=Europe/Brussels:20181205T100000
SEQUENCE:0
TRANSP:OPAQUE
DTEND;TZID=Europe/Brussels:20181205T160000
URL:https://voiceeu.org/activities/from-drr-to-resilience-working-group-mee
 ting
LOCATION:71 Rue Royale – Brussels – Belgique
SUMMARY:From DRR to Resilience Working Group Meeting
CLASS:PUBLIC
DTSTAMP:20260421T073915Z
END:VEVENT
END:VCALENDAR