BEGIN:VCALENDAR
VERSION:2.0
PRODID:TypiCMS
X-PUBLISHED-TTL:P1W
BEGIN:VEVENT
UID:69e9e58916a87
DTSTART;TZID=Europe/Brussels:20200616T110000
SEQUENCE:0
TRANSP:OPAQUE
DTEND;TZID=Europe/Brussels:20200616T123000
URL:https://voiceeu.org/activities/fpa-watch-group-meeting-3
LOCATION: –  – 
SUMMARY:FPA Watch Group Meeting
CLASS:PUBLIC
DTSTAMP:20260423T112529Z
END:VEVENT
END:VCALENDAR