BEGIN:VCALENDAR
VERSION:2.0
PRODID:TypiCMS
X-PUBLISHED-TTL:P1W
BEGIN:VEVENT
UID:69e6878b97cc1
DTSTART;TZID=Europe/Brussels:20180424T180000
SEQUENCE:0
TRANSP:OPAQUE
DTEND;TZID=Europe/Brussels:20180424T200000
URL:https://voiceeu.org/activities/exhibition-bombed-lives-to-be-rebuilt
LOCATION:Esplanade Solidarnosc\n – Brussels  – Belgium 
SUMMARY:Exhibition - BOMBED. Lives to be rebuilt
CLASS:PUBLIC
DTSTAMP:20260420T220739Z
END:VEVENT
END:VCALENDAR