BEGIN:VCALENDAR
VERSION:2.0
PRODID:TypiCMS
X-PUBLISHED-TTL:P1W
BEGIN:VEVENT
UID:69e9bf08ca4a9
DTSTART;TZID=Europe/Brussels:20220321T000000
SEQUENCE:0
TRANSP:OPAQUE
DTEND;TZID=Europe/Brussels:20220323T000000
URL:https://voiceeu.org/activities/european-humanitarian-forum-1
LOCATION: –  – 
SUMMARY:European Humanitarian Forum
CLASS:PUBLIC
DTSTAMP:20260423T084112Z
END:VEVENT
END:VCALENDAR