BEGIN:VCALENDAR
VERSION:2.0
PRODID:TypiCMS
X-PUBLISHED-TTL:P1W
BEGIN:VEVENT
UID:69e527ee8ccf5
DTSTART;TZID=Europe/Brussels:20211207T102000
SEQUENCE:0
TRANSP:OPAQUE
DTEND;TZID=Europe/Brussels:20211207T120000
URL:https://voiceeu.org/activities/eu-cord-advocacy-forum
LOCATION: –  – 
SUMMARY:EU-CORD Advocacy Forum
CLASS:PUBLIC
DTSTAMP:20260419T210726Z
END:VEVENT
END:VCALENDAR