BEGIN:VCALENDAR
VERSION:2.0
PRODID:TypiCMS
X-PUBLISHED-TTL:P1W
BEGIN:VEVENT
UID:69e8b81e339a5
DTSTART;TZID=Europe/Brussels:20171130T090000
SEQUENCE:0
TRANSP:OPAQUE
DTEND;TZID=Europe/Brussels:20171201T143000
URL:https://voiceeu.org/activities/echo-partners-conference-2017
LOCATION:Rue de l'Aqueduc 118 – Brussels – Belgium 
SUMMARY:ECHO PARTNERS' CONFERENCE 2017
CLASS:PUBLIC
DTSTAMP:20260422T135926Z
END:VEVENT
END:VCALENDAR