BEGIN:VCALENDAR
VERSION:2.0
PRODID:TypiCMS
X-PUBLISHED-TTL:P1W
BEGIN:VEVENT
UID:69e7976fc8f7d
DTSTART;TZID=Europe/Brussels:20231009T153000
SEQUENCE:0
TRANSP:OPAQUE
DTEND;TZID=Europe/Brussels:20231009T170000
URL:https://voiceeu.org/activities/critical-review-of-the-international-com
 munity-s-strategy-towards-haiti-fr
LOCATION:Rue du Gouvernement Provisoire 32 –  Bruxelles – 
SUMMARY:Critical Review of the International Community’s Strategy Towards
  Haiti (FR)
CLASS:PUBLIC
DTSTAMP:20260421T172743Z
END:VEVENT
END:VCALENDAR