BEGIN:VCALENDAR
VERSION:2.0
PRODID:TypiCMS
X-PUBLISHED-TTL:P1W
BEGIN:VEVENT
UID:69e8902e3ed78
DTSTART;TZID=Europe/Brussels:20231130T000000
SEQUENCE:0
TRANSP:OPAQUE
DTEND;TZID=Europe/Brussels:20231212T235959
URL:https://voiceeu.org/activities/cop28
LOCATION: – Dubai – UAE
SUMMARY:COP28
CLASS:PUBLIC
DTSTAMP:20260422T110902Z
END:VEVENT
END:VCALENDAR