BEGIN:VCALENDAR
VERSION:2.0
PRODID:TypiCMS
X-PUBLISHED-TTL:P1W
BEGIN:VEVENT
UID:69e5fd4f2ecaa
DTSTART;TZID=Europe/Brussels:20190618T100000
SEQUENCE:0
TRANSP:OPAQUE
DTEND;TZID=Europe/Brussels:20190618T111500
URL:https://voiceeu.org/activities/applying-a-nexus-approach-to-transcend-t
 he-humanitarian-development-divide-how-differently-do-we-need-to-work-to-l
 eave-no-one-behind
LOCATION:Avenue du Port\, 86c – Brussels – Belgium
SUMMARY:Applying a nexus approach to transcend the humanitarian-development
  divide: how differently do we need to work to leave no one behind?
CLASS:PUBLIC
DTSTAMP:20260420T121751Z
END:VEVENT
END:VCALENDAR